BEGIN:VCALENDAR
VERSION:2.0
PRODID:-//TYPO3/NONSGML Calendarize//EN
BEGIN:VEVENT
UID:calendarize-15985
DTSTART:20260505T090000Z
DTEND:20260505T110000Z
SUMMARY:Europäische Protesttag zur Gleichstellung von Menschen mit Behinderung
DESCRIPTION:&lt;p&gt;Am 5. Mai findet jedes Jahr der Europäische Protesttag zur Gleichstellung von Menschen mit Behinderung statt. Wir sind vor Ort auf dem Rathausplatz in Bielefeld dabei und beraten euch zu unseren Angeboten.&lt;/p&gt;
&lt;p&gt;&lt;strong&gt;Unsere Angebote im Überblick:&lt;/strong&gt;&lt;/p&gt;
&lt;ul&gt; 	&lt;li&gt;Seniorenschulungen&lt;/li&gt; 	&lt;li&gt;Zusammenarbeit mit Prowerk Bethel&lt;/li&gt; 	&lt;li&gt;Beratungen zum digitalen Ticketkauf und zu digitalen Informationsmöglichkeiten zum ÖPNVs&lt;/li&gt; 	&lt;li&gt;Sicherheitstipps für die Nutzung des ÖPNVs&lt;/li&gt; 	&lt;li&gt;Barrierefreiheit im ÖPNV&amp;nbsp;&lt;/li&gt; &lt;/ul&gt;
&lt;h2&gt;&amp;nbsp;mehr Infos gibt&#039;s auf der Seite der &lt;strong&gt;&lt;a href=&quot;https://www.aktion-mensch.de/das-bewirken-wir/protesttag-5-mai&quot; target=&quot;_blank&quot; title=&quot;https://www.aktion-mensch.de/das-bewirken-wir/protesttag-5-mai&quot;&gt;Aktion Mensch&lt;/a&gt;&lt;/strong&gt;&lt;/h2&gt;
LOCATION:Rathausplatz Bielefeld, (H) Rathaus
END:VEVENT

END:VCALENDAR